BEGIN:VCALENDAR
VERSION:2.0
PRODID:-//Hartzell&#039;s Auction Gallery - ECPv6.13.2.1//NONSGML v1.0//EN
CALSCALE:GREGORIAN
METHOD:PUBLISH
X-ORIGINAL-URL:https://www.hartzellsauction.com
X-WR-CALDESC:Events for Hartzell&#039;s Auction Gallery
REFRESH-INTERVAL;VALUE=DURATION:PT1H
X-Robots-Tag:noindex
X-PUBLISHED-TTL:PT1H
BEGIN:VTIMEZONE
TZID:America/New_York
BEGIN:DAYLIGHT
TZOFFSETFROM:-0500
TZOFFSETTO:-0400
TZNAME:EDT
DTSTART:20220313T070000
END:DAYLIGHT
BEGIN:STANDARD
TZOFFSETFROM:-0400
TZOFFSETTO:-0500
TZNAME:EST
DTSTART:20221106T060000
END:STANDARD
BEGIN:DAYLIGHT
TZOFFSETFROM:-0500
TZOFFSETTO:-0400
TZNAME:EDT
DTSTART:20230312T070000
END:DAYLIGHT
BEGIN:STANDARD
TZOFFSETFROM:-0400
TZOFFSETTO:-0500
TZNAME:EST
DTSTART:20231105T060000
END:STANDARD
END:VTIMEZONE
BEGIN:VEVENT
DTSTART;TZID=America/New_York:20221220T000000
DTEND;TZID=America/New_York:20230103T153000
DTSTAMP:20260425T122717
CREATED:20221206T161032Z
LAST-MODIFIED:20230103T201734Z
UID:61532-1671494400-1672759800@www.hartzellsauction.com
SUMMARY:See  You Next Year!
DESCRIPTION:
URL:https://www.hartzellsauction.com/event/happy-holidays-from-our-family-to-yours-see-you-next-year/
LOCATION:PA
END:VEVENT
BEGIN:VEVENT
DTSTART;TZID=America/New_York:20230109T100000
DTEND;TZID=America/New_York:20230109T150000
DTSTAMP:20260425T122717
CREATED:20221230T183144Z
LAST-MODIFIED:20221230T205958Z
UID:62466-1673258400-1673276400@www.hartzellsauction.com
SUMMARY:Public Auction - 1st Sale of 2023
DESCRIPTION:Gallery Auction Public Auction\nSelling from a local & New Jersey Estates with many antiques\, collectibles\, cut glass\, furniture & tools \nPublic Auction on Monday\, January 9th @ 10am  2023 \nOak Industrial Open Shelf Rack\, Mid Century Items\, Pyrex\, Pr. Brass Obelisk\, Chairs\, Paintings\, GE Milk Glass Refrigerator Sugar w/Salt & Pepper Shakers\, Sterling – Carnival Glass Pewter & Brass\, Table & Floor Lights\, Perfume Bottles\, Cut Glass\, Mikasa\, Cobalt Blue Dinner Set by Hardwick\, French Love Seat\, Antique Oil Paintings\, Frames\, Hooked & Oriental Rugs\, Coleman Lantern\, Primitive Doll House\, Blue Decorated Stoneware\, Preserve Jar\, Bamboo Shelf\, Mixing Bowls\, Baskets\, Auto Wheel Coaster Wagon\, Toys -Doll Furniture\, Metal Doll House\, Holiday Items\, Plus Much More Not Listed… \nAuctioneer: \nHartzell’s Auction Gallery Inc. \n521 Richmond Road\, Bangor\, PA  18013 \nPhone: 610.588.5831   Toll Free: 1.800.724.6808   Fax:  610.588.6206 \nPA # AU – 000395-L  |  AH – 1919  |  EST. 1943 \n[caldera_form id="CF5c7434bbb1a01"]
URL:https://www.hartzellsauction.com/event/public-auction/
LOCATION:Hartzell’s Auction Gallery\, 521 Richmond Rd\, Bangor\, PA\, 18013\, United States
END:VEVENT
BEGIN:VEVENT
DTSTART;TZID=America/New_York:20230116T100000
DTEND;TZID=America/New_York:20230116T153000
DTSTAMP:20260425T122718
CREATED:20221228T125124Z
LAST-MODIFIED:20221228T140919Z
UID:61764-1673863200-1673883000@www.hartzellsauction.com
SUMMARY:Winter Variety Auction 2023
DESCRIPTION:Catalog – Bid Now !!Winter Variety Auction on Monday\, January 16th @ 10am \nPreview:  January 9th from 8:00am till 2:00pm; January 10th – 12th from 9:00am till 3:00pm & January 13th 9am till 2pm \nLarge Variety of Country and Primitive Antiques including stoneware and yelloware\, wooden decoys and signs\, dolls and toys\, brass and copper\, cast iron and railroad lanterns\, advertising tins and political pins\, jewelry and pocket watches\, fountain pens and paper goods\, prints and paintings\, lighting and books\, musical instruments\, playground toys\, stack bookcases and more. \nThis will be an in-person and online Auction.  Absentee / Phone  / On-Line Bidding \nAuctioneer: \nHartzell’s Auction Gallery Inc. \n521 Richmond Road\, Bangor\, PA  18013 \nPhone: 610.588.5831   Toll Free: 1.800.724.6808   Fax:  610.588.6206 \nPA # AU – 000395-L  |  AH – 1919  |  EST. 1943 \n[caldera_form id="CF5c7434bbb1a01"]
URL:https://www.hartzellsauction.com/event/winter-variety-auction-2023/
LOCATION:Hartzell’s Auction Gallery\, 521 Richmond Rd\, Bangor\, PA\, 18013\, United States
ORGANIZER;CN="Gallery Auction / Live Auctioneers":MAILTO:hartzell@epix.net
END:VEVENT
BEGIN:VEVENT
DTSTART;TZID=America/New_York:20230123T100000
DTEND;TZID=America/New_York:20230123T150000
DTSTAMP:20260425T122718
CREATED:20221228T131615Z
LAST-MODIFIED:20230118T192308Z
UID:61871-1674468000-1674486000@www.hartzellsauction.com
SUMMARY:Decorative Arts & Jewelry Auction
DESCRIPTION:Catalog – Absentee / Phone & On Line biddingPublic Auction\nAntiques\, Collectibles\, Box Lots & More.. \nPublic Auction on Monday\, November 23rd @ 10am \nAntiques\, Collectibles\, Box Lots & More… \nThis is an on-line auction but\, absentee bids will be accepted.  All absentee bids must be submitted by Friday\, January 20th by 12:NOON  !! \nAuctioneer: \nHartzell’s Auction Gallery Inc. \n521 Richmond Road\, Bangor\, PA  18013 \nPhone: 610.588.5831   Toll Free: 1.800.724.6808   Fax:  610.588.6206 \nPA # AU – 000395-L  |  AH – 1919  |  EST. 1943 \n[caldera_form id="CF5c7434bbb1a01"]
URL:https://www.hartzellsauction.com/event/decorative-arts-jewelry-auction/
LOCATION:Hartzell’s Auction Gallery\, 521 Richmond Rd\, Bangor\, PA\, 18013\, United States
ORGANIZER;CN="Gallery Auction / Live Auctioneers":MAILTO:hartzell@epix.net
END:VEVENT
BEGIN:VEVENT
DTSTART;TZID=America/New_York:20230130T100000
DTEND;TZID=America/New_York:20230130T143000
DTSTAMP:20260425T122719
CREATED:20230120T194023Z
LAST-MODIFIED:20230125T150036Z
UID:63593-1675072800-1675089000@www.hartzellsauction.com
SUMMARY:Public Auction on Monday\, January 30th
DESCRIPTION:Gallery Auction Public Auction\nPublic Auction on Monday\, January 30th @ 10am \nGreat Selection of Antiques\, Collectibles & Miscellaneous Items \nSelling from Several Estates \nAntiques\, Collectibles\, Advertising Tins & Much More… \nGriswold\, Milk Bottles\, Fiestaware\, Depression glass\, Dry sink\, 1 Drawer Stand\, Fire King\, Hull\, Milk Cans\, Cookie Jars\, Popeye Jack in the Box\, Hop along Cassidy items\, Advertising Tins & wooden Boxes\, Kerosene Lights\, Edison Table Saw\, Antiques Tools\, Chicken & Egg Baskets\, Train Sets\, Wooden canes\, plus much more not listed. \nAuctioneer: \nHartzell’s Auction Gallery Inc. \n521 Richmond Road\, Bangor\, PA  18013 \nPhone: 610.588.5831   Toll Free: 1.800.724.6808   Fax:  610.588.6206 \nPA # AU – 000395-L  |  AH – 1919  |  EST. 1943 \n[caldera_form id="CF5c7434bbb1a01"]
URL:https://www.hartzellsauction.com/event/clean-up-auction-on-monday-january-30th/
LOCATION:Hartzell’s Auction Gallery\, 521 Richmond Rd\, Bangor\, PA\, 18013\, United States
END:VEVENT
END:VCALENDAR