BEGIN:VCALENDAR
VERSION:2.0
PRODID:-//Hartzell&#039;s Auction Gallery - ECPv6.13.2.1//NONSGML v1.0//EN
CALSCALE:GREGORIAN
METHOD:PUBLISH
X-ORIGINAL-URL:https://www.hartzellsauction.com
X-WR-CALDESC:Events for Hartzell&#039;s Auction Gallery
REFRESH-INTERVAL;VALUE=DURATION:PT1H
X-Robots-Tag:noindex
X-PUBLISHED-TTL:PT1H
BEGIN:VTIMEZONE
TZID:America/New_York
BEGIN:DAYLIGHT
TZOFFSETFROM:-0500
TZOFFSETTO:-0400
TZNAME:EDT
DTSTART:20260308T070000
END:DAYLIGHT
BEGIN:STANDARD
TZOFFSETFROM:-0400
TZOFFSETTO:-0500
TZNAME:EST
DTSTART:20261101T060000
END:STANDARD
END:VTIMEZONE
BEGIN:VEVENT
DTSTART;TZID=America/New_York:20260302T180000
DTEND;TZID=America/New_York:20260302T183000
DTSTAMP:20260421T130250
CREATED:20260116T192851Z
LAST-MODIFIED:20260225T141954Z
UID:110302-1772474400-1772476200@www.hartzellsauction.com
SUMMARY:Real Estate Auction
DESCRIPTION:Real Estate Auction Information SheetPublic Real Estate Auction \nMonday\, March 2nd @ 6pm \n1177 Lower South Main Street\, Bangor\, PA \nTo Settle the Estate of Brian Stocker \nOpen House:  Saturday\, February 14th from 10am to NOON\nTerms:  $20\,000 down in Cash or Certified Check.  Balance in 45 days. \nAuctioneer: \nHartzell’s Auction Gallery Inc. \n521 Richmond Road\, Bangor\, PA  18013 \nPhone: 610.588.5831   Toll Free: 1.800.724.6808   Fax:  610.588.6206 \nPA # AU – 000395-L  |  AH – 1919  |  EST. 1943 \n[caldera_form id="CF5c7434bbb1a01"]
URL:https://www.hartzellsauction.com/event/real-estate-auction/
LOCATION:1177 Lower South Main St\, Bangor\, PA\, 1177 Lower So. Main St\, Bangor\, PA\, 18013\, United States
END:VEVENT
BEGIN:VEVENT
DTSTART;TZID=America/New_York:20260315T180000
DTEND;TZID=America/New_York:20260315T200000
DTSTAMP:20260421T130250
CREATED:20260219T201619Z
LAST-MODIFIED:20260224T155408Z
UID:112202-1773597600-1773604800@www.hartzellsauction.com
SUMMARY:MARCH THROUGH TIME (on-line ONLY)
DESCRIPTION:Catalog – Bid Now !!March Though Time On-Line ONLY Auction \nSunday\, March 15th @ 6pm \n\n250+ Lots of Antiques and Vintage Items. Including: Large Collection of Victorian Buttons\, Halloween Paper Mache Pumpkins\, Wiener Werkstatte Tablecloths\, Carved Wooden Birds\, Cast Iron and Glass Candy Containers\, Redware Pottery\, Stoneware Jugs\, Wooden Boxes\, Blue Decorated Batter Jug\, Mantle and Wall Clocks\, Coca-Cola Advertising Trays\, Gas Station Items\, Depression Glass\, Christmas Decorations\, Advent Calendars\, Fountain Pens and Pencils\, Antique Photographs\, Postcards\, Edison Phonograph\, Sterling Silver Match Safes\, Script Advertising Jugs\, Broad and Goosewing Axe\, Oak Ice Box\, Victorian Chairs and Marble Top Stands\, Wooden Medical Cabinet and MORE. \nAuctioneer: \nHartzell’s Auction Gallery Inc. \n521 Richmond Road\, Bangor\, PA  18013 \nPhone: 610.588.5831   Toll Free: 1.800.724.6808   Fax:  610.588.6206 \nPA # AU – 000395-L  |  AH – 1919  |  EST. 1943 \n[caldera_form id="CF5c7434bbb1a01"]
URL:https://www.hartzellsauction.com/event/march-through-time-on-line-only/
LOCATION:On-Line ONLY (Live Auctioneer)\, 521 Richmond Rd\, Bangor\, PA\, 18013\, United States
END:VEVENT
BEGIN:VEVENT
DTSTART;TZID=America/New_York:20260315T190000
DTEND;TZID=America/New_York:20260315T203000
DTSTAMP:20260421T130251
CREATED:20260225T135149Z
LAST-MODIFIED:20260313T173449Z
UID:112457-1773601200-1773606600@www.hartzellsauction.com
SUMMARY:Gold & Silver Rush On-Line ONLY
DESCRIPTION:Catalog – Bid Now !!Gold & Silver Rush On-Line ONLY Auction \nSunday\, March 15th @ 7 pm \nPreview:\n\nTHURSDAY MARCH 12TH FROM 9:00am – 3:00pm\nFRIDAY MARCH 13TH FROM 9:00am – 2:00PM\n\nSelling 250 Lots of Gold and Silver Jewelry\, Coins\, Victorian Silver\, Coin Silver\, Sterling Silver\, Costume Jewelry and More. A Single Estate Collection. Over 25 Pocket Watches\, American Gold Coins\, 1885 CC Morgan Dollar\, 1878 S Trade Dollar\, Abraham Lincoln War Token\, Morgan and Peace Dollars\, Large Cents\, Flying Eagle Cents\, Indian Head Pennies\, and More Coinage. Gold Jewelry such as Rings\, Earrings\, Pins\, Medals\, Necklaces\, and more. Early Victorian Jewelry in Gold and Silver. Early American and English Coin Silver\, Sterling Silver Coffee Pots and Flatware. Several Quality Lots of Costume Jewelry and more. \nAuctioneer: \nHartzell’s Auction Gallery Inc. \n521 Richmond Road\, Bangor\, PA  18013 \nPhone: 610.588.5831   Toll Free: 1.800.724.6808   Fax:  610.588.6206 \nPA # AU – 000395-L  |  AH – 1919  |  EST. 1943 \n[caldera_form id="CF5c7434bbb1a01"]
URL:https://www.hartzellsauction.com/event/gold-silver-rush-on-line-only/
LOCATION:On-Line ONLY (Live Auctioneer)\, 521 Richmond Rd\, Bangor\, PA\, 18013\, United States
END:VEVENT
BEGIN:VEVENT
DTSTART;TZID=America/New_York:20260322T100000
DTEND;TZID=America/New_York:20260322T120000
DTSTAMP:20260421T130251
CREATED:20260306T162642Z
LAST-MODIFIED:20260313T163706Z
UID:113233-1774173600-1774180800@www.hartzellsauction.com
SUMMARY:PRE-SALE OF POWDER\, PRIMERS\, AMMO\, GUN STOCKS\, AND RELOADING ITEMS.
DESCRIPTION:In-Person Pre SaleSunday\, March 22nd at 10am \n2 HOUR PRE-SALE OF POWDER\, PRIMERS\, AMMO\, GUN STOCKS\, AND RELOADING ITEMS. \nsee photo’s \nAuctioneer: \nHartzell’s Auction Gallery Inc. \n521 Richmond Road\, Bangor\, PA  18013 \nPhone: 610.588.5831   Toll Free: 1.800.724.6808   Fax:  610.588.6206 \nPA # AU – 000395-L  |  AH – 1919  |  EST. 1943 \n[caldera_form id="CF5c7434bbb1a01"]
URL:https://www.hartzellsauction.com/event/pre-sale-of-powder-primers-ammo-gun-stocks-and-reloading-items/
LOCATION:Hartzell’s Auction Gallery\, 521 Richmond Rd\, Bangor\, PA\, 18013\, United States
ATTACH;FMTTYPE=image/jpeg:https://www.hartzellsauction.com/wp-content/uploads/2026/03/gunboxlots-scaled.jpg
ORGANIZER;CN="Hartzell's Auction Gallery%2C Inc.":MAILTO:hartzell@epix.net
END:VEVENT
BEGIN:VEVENT
DTSTART;TZID=America/New_York:20260322T120000
DTEND;TZID=America/New_York:20260322T150000
DTSTAMP:20260421T130252
CREATED:20260216T183048Z
LAST-MODIFIED:20260310T123155Z
UID:112114-1774180800-1774191600@www.hartzellsauction.com
SUMMARY:Firearms & Accessories Auction (2 sales 1 DAY !)
DESCRIPTION:Catalog – Bid Now !!2 Sales 1 DAY \nFirearms and Ammo Auction \nSunday\, March 22nd \nNon-Catalog Starts @ 10am \nCatalog Starts @ NOON \nSelling over 300 Lots of Estate Firearms\, Ammunition\, Knives\, Bayonets\, and More. Featuring Several Colt Single Action Army?s\, Sharps Carbine Model 1858\, Winchester Rifles\, Remington Rifles\, Browning Citori Shotgun in Case\, and Marlin Rifles. Over 75 Fine Pistols Including; Glock\, Smith and Wesson\, Heckler and Koch\, Ruger\, Browning\, and many more. Most Pistols are New in Box. Several Thousand Rounds of Ammunition. Reloading Materials\, Primers\, Gun Powder\, Reloading Presses\, and more More. THERE WILL BE A 2 HOUR PRE-SALE OF POWDER\, PRIMERS\, AMMO\, GUN STOCKS\, AND RELOADING ITEMS. \nAuctioneer: \nHartzell’s Auction Gallery Inc. \n521 Richmond Road\, Bangor\, PA  18013 \nPhone: 610.588.5831   Toll Free: 1.800.724.6808   Fax:  610.588.6206 \nPA # AU – 000395-L  |  AH – 1919  |  EST. 1943 \n[caldera_form id="CF5c7434bbb1a01"]
URL:https://www.hartzellsauction.com/event/firearms-accessories-auction/
LOCATION:Hartzell’s Auction Gallery\, 521 Richmond Rd\, Bangor\, PA\, 18013\, United States
ORGANIZER;CN="Gallery Auction / Live Auctioneers":MAILTO:hartzell@epix.net
END:VEVENT
BEGIN:VEVENT
DTSTART;TZID=America/New_York:20260322T190000
DTEND;TZID=America/New_York:20260322T210000
DTSTAMP:20260421T130252
CREATED:20260304T154227Z
LAST-MODIFIED:20260320T150007Z
UID:112813-1774206000-1774213200@www.hartzellsauction.com
SUMMARY:Storage Surprises Part II (On-line ONLY)
DESCRIPTION:Catalog – Bid Now !!Storage Surprises Part II\nSunday\, March 22nd at 7pm\nthis is an On-Line Only Auction\n\n\n\n\n300-Lots of Quality Antiques and Vintage Items including: Collection of Bottles \nand Jars\, Tinware and Woodenware\, Paper Goods and Advertising\, Postcard Albums \nand Valentines\, Christmas and Halloween\, Photographs and Daguerreotypes\, Civil\nWar Canteen\, Wooden Rolling Pins\, Early Lighting\, Badges and Ribbons\, Fountain\nPens and Pencils\, Straight Razors and Pocket Knives\, Food Molds\, Keys and Locks\, \nEyeglasses\, American Pewter\, Copper and Brass\, Cast Iron\, Butter Stamps and Molds\,\nCandle Molds\, Toys\, Powder Horns/Flasks\, Hunting / Fishing Licenses\, Republican \nParty Ribbons\, Political Buttons and Pinbacks\, Stoneware and Pottery\, Railroad\nRelated Items\, Tobacco Tins\, Advertising Tins\, Country Store NOS\, Wizard of Oz \nSeries Books\, Hood Ornaments and MORE.\nHartzell’s Auction Gallery Inc. \n521 Richmond Road\, Bangor\, PA  18013 \nPhone: 610.588.5831   Toll Free: 1.800.724.6808   Fax:  610.588.6206 \nPA # AU – 000395-L  |  AH – 1919  |  EST. 1943 \n[caldera_form id="CF5c7434bbb1a01"]
URL:https://www.hartzellsauction.com/event/storage-suprises-part-ii-on-line-only/
LOCATION:On-Line ONLY (Live Auctioneer)\, 521 Richmond Rd\, Bangor\, PA\, 18013\, United States
ATTACH;FMTTYPE=image/jpeg:https://www.hartzellsauction.com/wp-content/uploads/2026/03/Storage2-scaled.jpg
END:VEVENT
BEGIN:VEVENT
DTSTART;TZID=America/New_York:20260327T100000
DTEND;TZID=America/New_York:20260327T150000
DTSTAMP:20260421T130252
CREATED:20260309T192300Z
LAST-MODIFIED:20260326T234019Z
UID:113581-1774605600-1774623600@www.hartzellsauction.com
SUMMARY:Antiques\, Collectibles & Box Lots
DESCRIPTION:In-Person ONLY AuctionAntiques\, Collectibles & Box Lot\nMarch 27th @ 10:00 am EST\n \nKeep checking back for new photos.\nAuctioneer: \nHartzell’s Auction Gallery Inc. \n521 Richmond Road\, Bangor\, PA  18013 \nPhone: 610.588.5831   Toll Free: 1.800.724.6808   Fax:  610.588.6206 \nPA # AU – 000395-L  |  AH – 1919  |  EST. 1943 \n[caldera_form id="CF5c7434bbb1a01"]
URL:https://www.hartzellsauction.com/event/antiques-collectibles-box-lots-2/
LOCATION:Hartzell’s Auction Gallery\, 521 Richmond Rd\, Bangor\, PA\, 18013\, United States
ORGANIZER;CN="Hartzell's Auction Gallery%2C Inc.":MAILTO:hartzell@epix.net
END:VEVENT
BEGIN:VEVENT
DTSTART;TZID=America/New_York:20260416T100000
DTEND;TZID=America/New_York:20260416T143000
DTSTAMP:20260421T130253
CREATED:20260402T180255Z
LAST-MODIFIED:20260409T143732Z
UID:114909-1776333600-1776349800@www.hartzellsauction.com
SUMMARY:In-Person Antique & Collectible Auction
DESCRIPTION:In-Person ONLY AuctionIn-Person Antique & Collectible Auction \nThursday\, April 16th @ 10am \nPreview: \nWEDNESDAY APRIL 15TH FROM 9:00 AM TILL 4:00 PM\nTHURSDAY APRIL 16TH FROM 9:000 AM TILL 4:00 PM\nDAY OF SALE FROM 8:00 AM TILL 4:00 PM\nAntiques\, Vintage and Collectibles including:  Large Collection of 19th/20th c. Books\, Paper Goods\, Ephemera\, Advertising\, Vintage Magazines and Pamphlets\, Tintypes\, Postcards\, Collection of Vintage Record Albums (classic rock\, jazz and more)\, Coleman Lanterns\, Bookends\, Vases\, DVDs/CDs\, Beer Trays\, Textiles\, Lighting\, Lighting Parts\, Shades/Globes\, Tinware\, Baskets\, Scales\, Coca-Cola Items\, Prints\, Ceramic Roosters\, Black Americana\, Green Depression Glass\, Country\, Primitives\, Chalkware\, Bottles\, Brass Items\, Waterford\, Frames\, Theatre Playbills\, Fruit Jars\, Mixing Bowls\, Dish Sets\, Cast Iron\, Toys\, Oil Bottles w/ Carrier\, Tools\, Caboose Railroad Lantern Holder\, Milk Bottles\, Lenox\, Quilts\, Vintage Grease Drum Hand Truck and MORE.   \nAuctioneer: \nHartzell’s Auction Gallery Inc. \n521 Richmond Road\, Bangor\, PA  18013 \nPhone: 610.588.5831   Toll Free: 1.800.724.6808   Fax:  610.588.6206 \nPA # AU – 000395-L  |  AH – 1919  |  EST. 1943 \n[caldera_form id="CF5c7434bbb1a01"]
URL:https://www.hartzellsauction.com/event/in-person-antique-collectible-auction/
LOCATION:Hartzell’s Auction Gallery\, 521 Richmond Rd\, Bangor\, PA\, 18013\, United States
ATTACH;FMTTYPE=image/jpeg:https://www.hartzellsauction.com/wp-content/uploads/2026/04/4.16boxlots-scaled.jpg
END:VEVENT
BEGIN:VEVENT
DTSTART;TZID=America/New_York:20260417T100000
DTEND;TZID=America/New_York:20260417T150000
DTSTAMP:20260421T130254
CREATED:20260325T184111Z
LAST-MODIFIED:20260331T181024Z
UID:113970-1776420000-1776438000@www.hartzellsauction.com
SUMMARY:I'M A LITTLE BIT COUNTRY
DESCRIPTION:Catalog – Bid Now !!I’m a Little Bit Country \nFriday\, April 17th @ 10am \nThis is an In-Person and On-Line Auction \nPreview\nWEDNESDAY APRIL 15TH FROM 9:00 AM TILL 4:00 PM\nTHURSDAY APRIL 16TH FROM 9:000 AM TILL 4:00 PM\nDAY OF SALE FROM 8:00 AM TILL 4:00 PM\n550-Lot Antiques\, Country and Primitives Auction. Including: Advertising Tins\, Wooden Decoys\, Pantry Boxes\, Blue Decorated Stoneware\, Yellow ware\, Tramp Art Boxes and Frames\, Bottle Whimseys\, Weathervanes\, Hat Molds\, Gaming Wheel\, Painted Corner Cupboard\, Christmas Decorations and Belsnickel\, Samplers\, Pond Boats\, Glass Stoppers\, Marbles\, Flasks and Fruit Jars\, Cast Iron Banks and Toys\, Bookends and Doorstops\, Composition Horses\, Woodenware and Tinware\, Baskets\, Quilts and Coverlets\, Pewter and Redware\, Canes and Walking Sticks\, Keys and Ledgers\, Glass Insulators\, Fireman Helmets and Badges\, Oriental Rugs\, Pins and Ribbons\, Pastel Art Supplies\, Beaded Purses\, Books\, Store Displays\, Railroad Papergoods\, Cast Iron\, Railroad Lanterns\, Advertising Crates\, Footstools and Benches\, Watercolors\, Prints and Etchings. Artists including: Sterling Strauser\, Justin McCarthy\, W.E. Baum\, William Gothard\, Barbara Strawser and MORE. \nAuctioneer: \nHartzell’s Auction Gallery Inc. \n521 Richmond Road\, Bangor\, PA  18013 \nPhone: 610.588.5831   Toll Free: 1.800.724.6808   Fax:  610.588.6206 \nPA # AU – 000395-L  |  AH – 1919  |  EST. 1943 \n[caldera_form id="CF5c7434bbb1a01"]
URL:https://www.hartzellsauction.com/event/im-a-little-bit-country/
LOCATION:Hartzell’s Auction Gallery\, 521 Richmond Rd\, Bangor\, PA\, 18013\, United States
ORGANIZER;CN="Gallery Auction / Live Auctioneers":MAILTO:hartzell@epix.net
END:VEVENT
BEGIN:VEVENT
DTSTART;TZID=America/New_York:20260419T180000
DTEND;TZID=America/New_York:20260419T200000
DTSTAMP:20260421T130255
CREATED:20260401T123617Z
LAST-MODIFIED:20260401T184806Z
UID:114567-1776621600-1776628800@www.hartzellsauction.com
SUMMARY:The Hour of Glass
DESCRIPTION:Catalog – Bid Now !!The Hour of Glass (on-line ONLY) \nSunday\, April 19th @ 6pm \nPreview\nWednesday April 15th from 9:00 am till 4:00 pm\nThursday April 16th from 9:00 am till 4:00 pm\nFriday April 17th from 9:00 am till 3:00 pm\n(325+) Lots of Antique Glass\, Porcelain\, Watches / Jewelry and Chinese Items. Including: Quantity of Dorflinger Glass\, Blown and Pressed Glass\, Cut and Flint Glass\, Uranium Glass\, Carnival Glass\, Clarkes Fairy Lamp\, Murano\, Steuben\, Baccarat\, Glass Cane\, Paperweights\, Glass Prisms\, Perfume Bottles\, French Faience\, Delft\, Domed Clock\, Sterling Silver\, Silverplate and Copper\, Books and Historical Paper\, Eli Whitney Letter\, Chinese Export\, Pocket Watches\, Vintage Omega Watch\, Pens\, Costume Jewelry\, Sterling Silver and Gold\, Diamonds\, Contemporary Jewelry\, Hanging Lights / Chandeliers\, Reference Books and MORE. \nAuctioneer: \nHartzell’s Auction Gallery Inc. \n521 Richmond Road\, Bangor\, PA  18013 \nPhone: 610.588.5831   Toll Free: 1.800.724.6808   Fax:  610.588.6206 \nPA # AU – 000395-L  |  AH – 1919  |  EST. 1943 \n[caldera_form id="CF5c7434bbb1a01"]
URL:https://www.hartzellsauction.com/event/the-hour-of-glass/
LOCATION:PA
ATTACH;FMTTYPE=image/jpeg:https://www.hartzellsauction.com/wp-content/uploads/2026/04/4.19martyglassapril-scaled.jpg
END:VEVENT
BEGIN:VEVENT
DTSTART;TZID=America/New_York:20260419T190000
DTEND;TZID=America/New_York:20260419T203000
DTSTAMP:20260421T130255
CREATED:20260402T180740Z
LAST-MODIFIED:20260402T183357Z
UID:114911-1776625200-1776630600@www.hartzellsauction.com
SUMMARY:Paper Trail Auction (on-line ONLY)
DESCRIPTION:Catalog – Bid Now !!Paper Trail On-Line ONLY Auction \nSunday\, April 19th at 7pm \nPreview\nWednesday April 15th from 9:00 am till 4:00 pm\nThursday April 16th from 9:00 am till 4:00 pm\nFriday April 17th from 9:00 am till 3:00 pm\n\n\n\n\n225-Lots of 19th / Early 20th C. Antique Papergoods\, Ephemera\, Advertising\, Photographs\, Magazines and More. Including: Railroad\, Victorian Trade Cards and Die-Cuts\, Tobacco Cards\, Catalogs\, Brochures\, Pamphlets\, Children?s Books\, Theatre Playbills\, Automobile and Farm\, Lodge\, Blotters\, Postcards\, Scrapbooks\, Recipe Pamphlets\, Harvard University\, Early Photographs\, CDVs\, Daguerreotypes\, Tintypes\, Ambrotypes\, Silhouettes\, Almanacs\, Black Americana\, Invoices / Billheads\, Tobacco Felts / Silks\, Mauch Chunk\, Advertising Calendars\, Christmas\, Stereoview Cards\, Valentines\, Ledgers\, Account Books\, Wayne County\, PA\, Honesdale\, PA\, Advertising Posters\, General Store Ephemera\, Hollywood / Motion Picture\, Drawings / Sketches and MORE. \nAuctioneer: \nHartzell’s Auction Gallery Inc. \n521 Richmond Road\, Bangor\, PA  18013 \nPhone: 610.588.5831   Toll Free: 1.800.724.6808   Fax:  610.588.6206 \nPA # AU – 000395-L  |  AH – 1919  |  EST. 1943 \n[caldera_form id="CF5c7434bbb1a01"]
URL:https://www.hartzellsauction.com/event/paper-trail-auction-on-line-only/
LOCATION:On-Line ONLY (Live Auctioneer)\, 521 Richmond Rd\, Bangor\, PA\, 18013\, United States
ATTACH;FMTTYPE=image/jpeg:https://www.hartzellsauction.com/wp-content/uploads/2026/04/4.19paper-scaled.jpg
END:VEVENT
BEGIN:VEVENT
DTSTART;TZID=America/New_York:20260501T100000
DTEND;TZID=America/New_York:20260501T143000
DTSTAMP:20260421T130256
CREATED:20260402T181423Z
LAST-MODIFIED:20260402T181429Z
UID:115093-1777629600-1777645800@www.hartzellsauction.com
SUMMARY:Antiques\, Collectibles\, Box Lots & Much Much MORE !
DESCRIPTION:Gallery AuctionAntiques\, Collectibles\, Box Lots & Much More \nFriday\, May 1st at 10am \nAntiques\, Collectibles & many Surprises! \nAuctioneer: \nHartzell’s Auction Gallery Inc. \n521 Richmond Road\, Bangor\, PA  18013 \nPhone: 610.588.5831   Toll Free: 1.800.724.6808   Fax:  610.588.6206 \nPA # AU – 000395-L  |  AH – 1919  |  EST. 1943 \n[caldera_form id="CF5c7434bbb1a01"]
URL:https://www.hartzellsauction.com/event/antiques-collectibles-box-lots-much-much-more/
LOCATION:Hartzell’s Auction Gallery\, 521 Richmond Rd\, Bangor\, PA\, 18013\, United States
ATTACH;FMTTYPE=image/jpeg:https://www.hartzellsauction.com/wp-content/uploads/2026/04/Mark-Your-Calendar-Clip-Art-23057-2.jpeg
ORGANIZER;CN="Hartzell's Auction Gallery%2C Inc.":MAILTO:hartzell@epix.net
END:VEVENT
BEGIN:VEVENT
DTSTART;TZID=America/New_York:20260503T180000
DTEND;TZID=America/New_York:20260503T203000
DTSTAMP:20260421T130256
CREATED:20260416T181723Z
LAST-MODIFIED:20260416T190627Z
UID:115672-1777831200-1777840200@www.hartzellsauction.com
SUMMARY:Blooms and Bids On-Line ONLY Auction
DESCRIPTION:Catalog – Bid Now !!BLOOMS AND BIDS \nOn-Line ONLY Auction \nMay 3rd at 6pm \n400-Lots of Antiques\, Furniture and Decorative Items. Including: Advertising Stoneware Jugs\, Blue Decorated Easton\, PA Jugs / Crocks\, Wooden Butter Stamps and Molds\, Baskets\, Quilts\, Dolls\, Milk Glass Covered Dishes\, Black Americana\, Advertising Paper Goods\, Christmas and Halloween Decorations\, Flowerpots and Pottery\, Toys\, Woodenware\, Taxidermy\, Clocks\, Marbles\, Lighting\, Airplane Models\, Tintypes and CDVs\, 18th C. PA Map\, Prints\, Etchings / Engravings\, Oil Paintings / Portraits\, Postcards / Photographs\, Studio Glass\, Tiffany / Cameo Glass Lamps\, Buddy ?L? Trucks\, Brass Bells\, Bottles and Fruit Jars\, License Plates\, Carved Folk Art Canes\, Mirrors\, Theatre Playbills\, Robert Doney Paintings / Sketches\, Cast Iron Molds\, Woodenware\, Brass Items\, Art Books and MORE. \nAuctioneer: \nHartzell’s Auction Gallery Inc. \n521 Richmond Road\, Bangor\, PA  18013 \nPhone: 610.588.5831   Toll Free: 1.800.724.6808   Fax:  610.588.6206 \nPA # AU – 000395-L  |  AH – 1919  |  EST. 1943 \n[caldera_form id="CF5c7434bbb1a01"]
URL:https://www.hartzellsauction.com/event/blooms-and-bids-on-line-only-auction/
LOCATION:On-Line ONLY (Live Auctioneer)\, 521 Richmond Rd\, Bangor\, PA\, 18013\, United States
ATTACH;FMTTYPE=image/jpeg:https://www.hartzellsauction.com/wp-content/uploads/2026/04/Blooms5.3.26-scaled.jpg
END:VEVENT
END:VCALENDAR