BEGIN:VCALENDAR
VERSION:2.0
PRODID:-//Hartzell&#039;s Auction Gallery - ECPv6.13.2.1//NONSGML v1.0//EN
CALSCALE:GREGORIAN
METHOD:PUBLISH
X-WR-CALNAME:Hartzell&#039;s Auction Gallery
X-ORIGINAL-URL:https://www.hartzellsauction.com
X-WR-CALDESC:Events for Hartzell&#039;s Auction Gallery
REFRESH-INTERVAL;VALUE=DURATION:PT1H
X-Robots-Tag:noindex
X-PUBLISHED-TTL:PT1H
BEGIN:VTIMEZONE
TZID:America/New_York
BEGIN:DAYLIGHT
TZOFFSETFROM:-0500
TZOFFSETTO:-0400
TZNAME:EDT
DTSTART:20220313T070000
END:DAYLIGHT
BEGIN:STANDARD
TZOFFSETFROM:-0400
TZOFFSETTO:-0500
TZNAME:EST
DTSTART:20221106T060000
END:STANDARD
END:VTIMEZONE
BEGIN:VEVENT
DTSTART;TZID=America/New_York:20220722T100000
DTEND;TZID=America/New_York:20220722T143000
DTSTAMP:20260425T224109
CREATED:20220712T200343Z
LAST-MODIFIED:20220721T181103Z
UID:55106-1658484000-1658500200@www.hartzellsauction.com
SUMMARY:Box Lots\, Primitives\, Griswold and More
DESCRIPTION:Gallery Auction Public Auction\nBox Lots\, Primitives\, Griswold and More \nOld Fashion Box Lots Sale with Quality Antiques\, Primitives\, Advertising\, Vintage Clothing\, Pyrex\, Country Smalls\, Cast Iron and More.  Featuring; Cast Iron Pans\, Skillets\, Griddles\, Dutch Ovens and More By; Griswold and Wagner. Early Butcher Shop Items such as Cleavers\, Meat Hooks\, Grinders\, and More. Collection of Pyrex Mixing Bowls\, Refrigerator Dishes\, and Serving Pieces. Primitives Consisting of Early Molds\, Wooden Ware\, Stoneware\, Yellow Ware\, Salt Glaze\, Splint Baskets\, Early Wooden and Metal Kitchen Ware\, and More. Local Pennsylvania and New Jersey Milk Bottles in Half Pints\, Pints\, and Quarts\, Early Glass Canning Jars and Lids. Selection of Early Gas and Fuel Cans\, Oilers\, and Automotive Tools. Advertising Beer Signs\, Lights\, and Clocks. Furniture\, Wooden Stools\, Plant Stands\, and More. Selection of Vintage Clothing\, Hats\, and Dress Form.  A Good Quality Sale that has not been picked through and must be sold.  More items will be added and not listed.   \nPublic Auction of Antiques\, Collectibles\, Pyrex\, Griswold & More \nOn Friday\, July 22nd at 10am \nVintage dress form\, Redware\, Split oak baskets\, stoneware jugs & bowls\, feed bags\, lots of local milk bottles\, ice tongs\, kerosene lights\, Seltzer bottles\, beer collectibles\, Pyrex mixing bowls\, Cast Iron Griswold & more\, Pen dell dairy box\, etc. \nAuctioneer: \nHartzell’s Auction Gallery Inc. \n521 Richmond Road\, Bangor\, PA  18013 \nPhone: 610.588.5831   Toll Free: 1.800.724.6808   Fax:  610.588.6206 \nPA # AU – 000395-L  |  AH – 1919  |  EST. 1943 \n[caldera_form id="CF5c7434bbb1a01"]
URL:https://www.hartzellsauction.com/event/box-lots-primitives-griswold-and-more/
LOCATION:Hartzell’s Auction Gallery\, 521 Richmond Rd\, Bangor\, PA\, 18013\, United States
END:VEVENT
BEGIN:VEVENT
DTSTART;TZID=America/New_York:20220716T100000
DTEND;TZID=America/New_York:20220716T160000
DTSTAMP:20260425T224109
CREATED:20220610T171439Z
LAST-MODIFIED:20220706T132935Z
UID:53145-1657965600-1657987200@www.hartzellsauction.com
SUMMARY:On Site Estate Auction
DESCRIPTION:In Person & On Line – Catalog – Bid Now!!Public Auction\nOn Site Estate Auction \nSaturday\, July 16th @ 10am \nWe will be selling the collection of the late Rosemarie & Dr. William Lozinger \n4016 Locust Drive\, Northampton\, PA  18067 \nPreview:  July 10th from 10am to 1 pm \nMany fine Antiques\, Local collectibles & Advertising signs\, Gasoline signs\, Clocks\, Primitives\, Beer Steins\, Military Items\, C.I. Dreisbach Paintings\, Lionel Trains\, and more \nTerms: 13% cash or check. 16% Credit Card. 18% phone bids. 23% Live Auctioneers \nAuctioneer: \nHartzell’s Auction Gallery Inc. \n521 Richmond Road\, Bangor\, PA  18013 \nPhone: 610.588.5831   Toll Free: 1.800.724.6808   Fax:  610.588.6206 \nPA # AU – 000395-L  |  AH – 1919  |  EST. 1943 \n[caldera_form id="CF5c7434bbb1a01"]
URL:https://www.hartzellsauction.com/event/on-site-estate-auction/
LOCATION:PA
END:VEVENT
BEGIN:VEVENT
DTSTART;TZID=America/New_York:20220708T100000
DTEND;TZID=America/New_York:20220708T153000
DTSTAMP:20260425T224110
CREATED:20220627T180412Z
LAST-MODIFIED:20220705T181428Z
UID:53645-1657274400-1657294200@www.hartzellsauction.com
SUMMARY:Box Lot Tent Auction
DESCRIPTION:Gallery Auction Public Auction\nBox Lot Tent Auction \nPublic Auction on Friday\, July 8th @ 10am \nPyrex\, Electric Guitar\, Flute\, Tools\, Trains\, Railroad Lantern\, Mengel Cherry Dresser\, Clocks\, Various Crocks\, Plant Stands\, Copper Boilers\, Large Hand Wrought Barn Straps\, Cookware\, Beatles Albums and Memorabilia\, Vintage Beaded Purses\, Pressed Glass\, Costume Jewelry\, Jewelry Making Supplies\, Painted Furniture\, Milk Glass Spice Jar/Rack\, Cast Iron Skillets\, Books\, Ephemera\, Guitars\, Violin\, Banjo\, Guitar Stands and Cases\, Silver Plate\, Propane Heaters\, Spangle\, Gas Cans\, Beer Advertising\, Tins\, Antique Bottles\, Key Making Machine\, Robert Doney Prints\, Advertising Crate\, Vintage Valentines\, Dining Room Set\, Life Magazine\, Cafe Tables and Chairs\, Edger\, Shutters\, Dvds\, CDs and More \nAuctioneer: \nHartzell’s Auction Gallery Inc. \n521 Richmond Road\, Bangor\, PA  18013 \nPhone: 610.588.5831   Toll Free: 1.800.724.6808   Fax:  610.588.6206 \nPA # AU – 000395-L  |  AH – 1919  |  EST. 1943 \n[caldera_form id="CF5c7434bbb1a01"]
URL:https://www.hartzellsauction.com/event/box-lot-tent-auction/
LOCATION:Hartzell’s Auction Gallery\, 521 Richmond Rd\, Bangor\, PA\, 18013\, United States
END:VEVENT
BEGIN:VEVENT
DTSTART;TZID=America/New_York:20220623T190000
DTEND;TZID=America/New_York:20220623T230000
DTSTAMP:20260425T224110
CREATED:20220602T153840Z
LAST-MODIFIED:20220610T172341Z
UID:52833-1656010800-1656025200@www.hartzellsauction.com
SUMMARY:Pyrex Auction
DESCRIPTION:On-Line ONLY Auction (Timed – Live Auctioneers)Mark this date:  Thursday\, June 23rd @ 7pm\nPyrex on-line only auction \nmore information and catalog will be posted shortly. \nAuctioneer: \nHartzell’s Auction Gallery Inc. \n521 Richmond Road\, Bangor\, PA  18013 \nPhone: 610.588.5831   Toll Free: 1.800.724.6808   Fax:  610.588.6206 \nPA # AU – 000395-L  |  AH – 1919  |  EST. 1943 \n[caldera_form id="CF5c7434bbb1a01"]
URL:https://www.hartzellsauction.com/event/upcoming-pyrex-auction/
LOCATION:On-Line ONLY (Live Auctioneer)\, 521 Richmond Rd\, Bangor\, PA\, 18013\, United States
END:VEVENT
BEGIN:VEVENT
DTSTART;TZID=America/New_York:20220617T100000
DTEND;TZID=America/New_York:20220617T160000
DTSTAMP:20260425T224111
CREATED:20220518T181946Z
LAST-MODIFIED:20220527T133821Z
UID:51898-1655460000-1655481600@www.hartzellsauction.com
SUMMARY:The Sweet Sound of a Countrytime Auction
DESCRIPTION:Catalog – Bid Now !!Public Auction\nQuality On-Line and In-Person Auction from Various Local and Northern Pennsylvania Estates. \n Featuring; 100 lots of Guitars\, Violins\, and Speakers\nOpen House:  Wednesday June 15th from 9:00am till 4:00pm    \n             Thursday  June 16th from 9:00am till 4:00pm\n             Day of Sale Doors open at 8:00am \n             Or by Appointment\nFeaturing 100+ Lots of Guitars\, Violins\, Mandolins\, Amps including: Martin\, Fender\, Washburn\, Takamine\, Cort\, Goya\, Gretsch\, Ibanez\, Yamaha and MORE. \nCountry and Primitives:  Painted Furniture and Smalls\, Stoneware\, Redware\, Lanterns\, Brass\, Copper\, Cast Iron\, Weathervanes\, Corner Cupboard\, Jelly Cupboard\,  Mirrors\,  Early Photographs\,  Woodenware\, Wicker Furniture and MORE. \nPorcelain and Pottery:  Fulper\, Roseville\, Copper Luster\,  Orientalia\, Flow Blue\, Royal Doulton\, Majolica\, Canton\, Hummels\, Rosenthal\, Pottery Tiles and MORE. \nJewelry\, Silver and Coins:  Equestrian Jewelry\, Diamond Earrings\, 14Kt. Gold Rings/Watches\, Sterling Silver and Silverplate\,  Tiffany Studios Desk Set\, Tiffany and Co.  Flatware\, Glass Beaded Purses\, Greek Icons\, Indian Head Cents\, Half Dollars\, Half-Cent Pieces and MORE. \nHoliday and Toys:  Early Christmas Tree Candle Lights\, Holiday Bulbs\, Wooden Wagon\, Jensen Steam Engine\, Porcelain Doll\, Cradles\, Clay Marbles\, Rocking Horses\, Miniature Cast Iron and MORE. \nPaintings and Rugs:  Sterling Strauser\, Jack Savitsky\, Peter Heiden\, May Banta\, George Mueller\, Various Portraits\, Several Oriental Rugs and MORE. \nLighting and Clocks:  Kerosene Chandelier\, Gas Shades\, Porcelain Ansonia\, Ogee Mantle Clock\, Tall Case Clock and MORE. \n\nAuctioneer: \nHartzell’s Auction Gallery Inc. \n521 Richmond Road\, Bangor\, PA  18013 \nPhone: 610.588.5831   Toll Free: 1.800.724.6808   Fax:  610.588.6206 \nPA # AU – 000395-L  |  AH – 1919  |  EST. 1943 \n[caldera_form id="CF5c7434bbb1a01"]
URL:https://www.hartzellsauction.com/event/the-sweet-sound-of-a-country-time-auction/
LOCATION:Hartzell’s Auction Gallery\, 521 Richmond Rd\, Bangor\, PA\, 18013\, United States
ORGANIZER;CN="Gallery Auction / Live Auctioneers":MAILTO:hartzell@epix.net
END:VEVENT
BEGIN:VEVENT
DTSTART;TZID=America/New_York:20220610T100000
DTEND;TZID=America/New_York:20220610T153000
DTSTAMP:20260425T224112
CREATED:20220518T160118Z
LAST-MODIFIED:20220608T174112Z
UID:51834-1654855200-1654875000@www.hartzellsauction.com
SUMMARY:June 10th Box Lot Auction
DESCRIPTION:Gallery Auction Public Auction\nFriday\, June 10th @ 10am \nBox Lot Auction including: \nAuctioneer: \nHartzell’s Auction Gallery Inc. \n521 Richmond Road\, Bangor\, PA  18013 \nPhone: 610.588.5831   Toll Free: 1.800.724.6808   Fax:  610.588.6206 \nPA # AU – 000395-L  |  AH – 1919  |  EST. 1943 \n[caldera_form id="CF5c7434bbb1a01"]
URL:https://www.hartzellsauction.com/event/june-10th-box-lot-auction/
LOCATION:Hartzell’s Auction Gallery\, 521 Richmond Rd\, Bangor\, PA\, 18013\, United States
END:VEVENT
BEGIN:VEVENT
DTSTART;TZID=America/New_York:20220603T100000
DTEND;TZID=America/New_York:20220603T153000
DTSTAMP:20260425T224112
CREATED:20220518T155922Z
LAST-MODIFIED:20220601T162749Z
UID:51833-1654250400-1654270200@www.hartzellsauction.com
SUMMARY:Parking Lot / Tent Auction
DESCRIPTION:Gallery Auction Public Auction\nParking Lot / Tent Auction \nFriday\, June 3rd @ 10am \nPublic Auction on Friday\, June 3rd @ 10am \nParking Lot / Tent Auction \nPrimitives\, Stoneware\, Mixing Bowls\, Kerosene Lights\, Cranberry Hall Fixture\, Iron Stove\, Blue Agate\, Large Selection Of Shutters\, Dry Sink\, Jam Cupboard\, One Door Cabinet\, Old Christmas Decoration\, Mid Century Modern  Chrome And Upholster Club Chair\, Coffee Table\, Pyrex\, Doll House\, Brilliant Cut Glass\, Buckwood Silverplate (Shawnee Inn)\, Nippon\, Paintings & Prints\, Capodimonte\, Blue Glass\, Depression Glass\, Old & Modern Books\, Cherry & Mahogany Drop Leaf Tables\, Square Oak Table\, Marble Top Dresser\, Trains & Accessories\, Rock Tumbler\, Kitchen Aid Mixer\, Mechanical Banks – Book of Knowledge\, And More… \nAuctioneer: \nHartzell’s Auction Gallery Inc. \n521 Richmond Road\, Bangor\, PA  18013 \nPhone: 610.588.5831   Toll Free: 1.800.724.6808   Fax:  610.588.6206 \nPA # AU – 000395-L  |  AH – 1919  |  EST. 1943 \n[caldera_form id="CF5c7434bbb1a01"]
URL:https://www.hartzellsauction.com/event/parking-lot-tent-auction-2/
LOCATION:Hartzell’s Auction Gallery\, 521 Richmond Rd\, Bangor\, PA\, 18013\, United States
END:VEVENT
BEGIN:VEVENT
DTSTART;TZID=America/New_York:20220520T100000
DTEND;TZID=America/New_York:20220520T153000
DTSTAMP:20260425T224112
CREATED:20220504T195117Z
LAST-MODIFIED:20220516T192806Z
UID:51400-1653040800-1653060600@www.hartzellsauction.com
SUMMARY:3rd Sale at Comunale's
DESCRIPTION:On Site Auction ONLYPublic Auction at Comunale Italian Butcher & Gun Shop \nFriday\, May 20th @ 10am \n2165 Mt. Bethel Hwy\, Mt. Bethel\, PA  18343 \nWe are still Liquidating the Entire store contents. This auction will be in person ONLY! \nAuctioneer: \nHartzell’s Auction Gallery Inc. \n521 Richmond Road\, Bangor\, PA  18013 \nPhone: 610.588.5831   Toll Free: 1.800.724.6808   Fax:  610.588.6206 \nPA # AU – 000395-L  |  AH – 1919  |  EST. 1943 \n[caldera_form id="CF5c7434bbb1a01"]
URL:https://www.hartzellsauction.com/event/51400/
LOCATION:Comunale Italian Market\, 2165 Mt. Behtel Hwy\, Mt. Bethel\, PA\, 18343\, United States
END:VEVENT
BEGIN:VEVENT
DTSTART;TZID=America/New_York:20220512T190000
DTEND;TZID=America/New_York:20220512T213000
DTSTAMP:20260425T224112
CREATED:20220419T194832Z
LAST-MODIFIED:20220421T173758Z
UID:50991-1652382000-1652391000@www.hartzellsauction.com
SUMMARY:Toys & Trains Auction - On Line ONLY
DESCRIPTION:Catalog – Bid Now !! – On Line ONLYPublic Auction\nToys & Trains On Line ONLY @ 7pm EST \nAuctioneer: \nHartzell’s Auction Gallery Inc. \n521 Richmond Road\, Bangor\, PA  18013 \nPhone: 610.588.5831   Toll Free: 1.800.724.6808   Fax:  610.588.6206 \nPA # AU – 000395-L  |  AH – 1919  |  EST. 1943 \n[caldera_form id="CF5c7434bbb1a01"]
URL:https://www.hartzellsauction.com/event/toys-trains-auction-on-line-only/
LOCATION:On-Line ONLY (Live Auctioneer)\, 521 Richmond Rd\, Bangor\, PA\, 18013\, United States
END:VEVENT
BEGIN:VEVENT
DTSTART;TZID=America/New_York:20220509T100000
DTEND;TZID=America/New_York:20220509T140000
DTSTAMP:20260425T224113
CREATED:20220418T175721Z
LAST-MODIFIED:20220502T174458Z
UID:50989-1652090400-1652104800@www.hartzellsauction.com
SUMMARY:Parking Lot Tent Auction
DESCRIPTION:Gallery Auction Public Auction\nParking Lot / Tent Auction \nMonday\, May 9th @ 10am \nPublic Auction on Monday\, May 9th @ 10am \nAntiques\, Collectibles and Much More. \nLots of items! Sterling\, iRobot Braava Jet 240 in box\, Furniture\, Vanity Table\, Leather Type Counter Stools\, Lamps\, Stainless Steel Cookware\, Small Kitchen Appliances\, Baskets\, Linens\, Propane Heaters\, Metal Patio Set\, Patio Umbrellas\, Oars\, Craftsman Toolbox\, Hand Tools\, Large Clamps\, Band Saw\, Madame Alexander Doll\, Crocks\, Pottery\, Flowerpots\, Sad Irons\, TVs Including Panasonic It’s a BIG one! \, Advertising Can\, Blue Willow\, Flow Blue\, TransferWare\, Vintage Perfume\, Pyrex\, Vintage Hardware\, Artwork\, Rag Rugs and Much More.  \nAuctioneer: \nHartzell’s Auction Gallery Inc. \n521 Richmond Road\, Bangor\, PA  18013 \nPhone: 610.588.5831   Toll Free: 1.800.724.6808   Fax:  610.588.6206 \nPA # AU – 000395-L  |  AH – 1919  |  EST. 1943 \n[caldera_form id="CF5c7434bbb1a01"]
URL:https://www.hartzellsauction.com/event/parking-lot-tent-auction/
LOCATION:Hartzell’s Auction Gallery\, 521 Richmond Rd\, Bangor\, PA\, 18013\, United States
ORGANIZER;CN="Hartzell's Auction Gallery%2C Inc.":MAILTO:hartzell@epix.net
END:VEVENT
BEGIN:VEVENT
DTSTART;TZID=America/New_York:20220422T100000
DTEND;TZID=America/New_York:20220422T150000
DTSTAMP:20260425T224113
CREATED:20220323T195537Z
LAST-MODIFIED:20220411T140114Z
UID:50191-1650621600-1650639600@www.hartzellsauction.com
SUMMARY:COUNTRY BARN BONANZA AUCTION
DESCRIPTION:Catalog – Bid Now !!Public Auction\nCountry Barn Bonanza \nSelling from a Shawnee on the Delaware and Bangor Estates \nFeaturing – 2020 Dodge Promaster City Van\, 2012 Ford Transit Van\, 2016 Cub Cadet Riding Lawn Tractor\, Lancaster County Painted Wall Box\, Fulper Pottery Large Size Two-Piece Floor Vase with Chinese Blue Flambe Glaze\, Antique Quilts and Coverlets\, Advertising\, Early Roseville Pottery\, Large Selection of Sterling Silver\, Cullen Yates oil on Canvas\, Self Taught Art by; Sterling Strauser and Justin McCarthy\, Early American Portraits on Canvas\, Chippendale Furniture\, Country Cupboards and Chests\, A Fine Selection of Country and Primitive Smalls\, Advertising\, Slate Checkerboards\, Lighting\, and more. \nAuctioneer: \nHartzell’s Auction Gallery Inc. \n521 Richmond Road\, Bangor\, PA  18013 \nPhone: 610.588.5831   Toll Free: 1.800.724.6808   Fax:  610.588.6206 \nPA # AU – 000395-L  |  AH – 1919  |  EST. 1943 \n[caldera_form id="CF5c7434bbb1a01"]
URL:https://www.hartzellsauction.com/event/country-barn-bonanza-auction/
LOCATION:Hartzell’s Auction Gallery\, 521 Richmond Rd\, Bangor\, PA\, 18013\, United States
ORGANIZER;CN="Gallery Auction / Live Auctioneers":MAILTO:hartzell@epix.net
END:VEVENT
BEGIN:VEVENT
DTSTART;TZID=America/New_York:20220421T193000
DTEND;TZID=America/New_York:20220421T230000
DTSTAMP:20260425T224114
CREATED:20220329T171120Z
LAST-MODIFIED:20220406T170441Z
UID:50769-1650569400-1650582000@www.hartzellsauction.com
SUMMARY:The Pyrex Effect - On-Line ONLY (Timed Sale)
DESCRIPTION:On – Line ONLY (Timed Sale)Thursday\, April 21st @7:30PM EST(Timed Auction / Live  Auctioneer)\nSelling over 200 Plus Lots of Pyrex\, Fire-King\, Mid-Century Modern\, and Pottery. A Single Collector Estate Sale. Part 1 of Several.\nPreview :  Tuesday April 19th from 9:00am till 3:00pm and  Wednesday April 20th from 9:00am till 3:00pm\nAuctioneer: \nHartzell’s Auction Gallery Inc. \n521 Richmond Road\, Bangor\, PA  18013 \nPhone: 610.588.5831   Toll Free: 1.800.724.6808   Fax:  610.588.6206 \nPA # AU – 000395-L  |  AH – 1919  |  EST. 1943 \n[caldera_form id="CF5c7434bbb1a01"]
URL:https://www.hartzellsauction.com/event/the-pyrex-effect-on-line-only-timed-sale/
LOCATION:On-Line ONLY (Live Auctioneer)\, 521 Richmond Rd\, Bangor\, PA\, 18013\, United States
END:VEVENT
BEGIN:VEVENT
DTSTART;TZID=America/New_York:20220410T100000
DTEND;TZID=America/New_York:20220410T150000
DTSTAMP:20260425T224114
CREATED:20220315T194626Z
LAST-MODIFIED:20220316T100541Z
UID:49800-1649584800-1649602800@www.hartzellsauction.com
SUMMARY:On-Line ONLY Iron Auction
DESCRIPTION:Catalog – Bid Now !!On-Line ONLY Auction\nfor the Collections of William “Buck” Carson & Dave and Sue Irons \nPreview: Thursday\, April 7th from 9:00am until 4:00pm \nFriday\, April 8th from 9:00am until 2:00pm \nFeaturing: 400 – Lots of Antique Pressing Irons and Mangling Boards \n**Special Note** Hartzell’s Auction Gallery will offer Absentee Bidding.  No Phone Lines will be Available. \nAuctioneer: \nHartzell’s Auction Gallery\, Inc \n521 Richmond Road\, Bangor\, PA  18013 \n610.588.5831  www.hartzellsauction.com \nPA# AU – 00395-L   AH – 1919  Est. 1943 \n[caldera_form id="CF5c7434bbb1a01"]
URL:https://www.hartzellsauction.com/event/on-line-only-iron-auction/
LOCATION:On-Line ONLY (Live Auctioneer)\, 521 Richmond Rd\, Bangor\, PA\, 18013\, United States
END:VEVENT
BEGIN:VEVENT
DTSTART;TZID=America/New_York:20220402T123000
DTEND;TZID=America/New_York:20220402T123000
DTSTAMP:20260425T224115
CREATED:20220306T182034Z
LAST-MODIFIED:20220323T150633Z
UID:48641-1648902600-1648902600@www.hartzellsauction.com
SUMMARY:Comunale  Italian Market Liquidation Auction - Day #1 (Part 2)
DESCRIPTION:Catalog – Bid Now ! Public Auction\nComunales Italian Butcher and Shop Part 2\n1 Mt Bethel Plaza (2165 Mt Bethel Hwy) Mt. Bethel\, PA  19343 \nStarting @ 12:30 Part 2 will begin on Saturday\, April 2nd \nPreviews: Thursday March 31st from 10:00am till 5:00pm and Friday April 1st from 10:00am till 6:00pm\, Or by Appointment. \n1 Mt Bethel Plaza (2165 Mt Bethel Hwy) Mt. Bethel\, PA  19343 \nDay #1  Featuring – Over 150 Firearms\, Ammo\, Scopes and Optics\, Swords\, Bayonets\, Model Gun Company Rifles\, Gun Safes\, 24’ Godfrey Marine “SweetWater” Pontoon Boat w/ Trailer\, Antique Toys\, Collectibles\, Signs\, and More… \nAddress:  1 Mt Bethel Plaza (2165 Mt Bethel Hwy) Mt. Bethel\, PA  19343 \nAuctioneer: \n \n[caldera_form id="CF5c7434bbb1a01"]
URL:https://www.hartzellsauction.com/event/comunale-italian-market-liquidation-auction-day-1-part-2/
LOCATION:Comunale Italian Market\, 2165 Mt. Behtel Hwy\, Mt. Bethel\, PA\, 18343\, United States
END:VEVENT
BEGIN:VEVENT
DTSTART;TZID=America/New_York:20220326T100000
DTEND;TZID=America/New_York:20220326T160000
DTSTAMP:20260425T224115
CREATED:20220218T201712Z
LAST-MODIFIED:20220325T134619Z
UID:46410-1648288800-1648310400@www.hartzellsauction.com
SUMMARY:Country Time March Auction
DESCRIPTION:Catalog – Bid Now !!Public Auction\nCountry Time March Auction \nOffering 600+ Lots of Antique Country and Primitive Items including: Blue Decorated Stoneware and Redware\, Quilts and Samplers\, Tramp Art and Baskets\, Painted Wooden Boxes and Buckets\, Folk Art and Outsider Art\, Wooden Bowls and Carved Canes\, Painted Cupboards and Blanket Chests\, Brass and Tinware\, Silhouettes and Watercolors\, Tall Case Clocks and \, Cast Iron Toys and Trains\, Mangle Boards and Mochaware\, Advertising Signs and Photographs\, Paintings and Prints\, Holiday Items and MUCH MORE. \nPrint Catalog (118 pages) \nAuctioneer: \n \n[caldera_form id="CF5c7434bbb1a01"]
URL:https://www.hartzellsauction.com/event/country-time-march-auction/
LOCATION:Hartzell’s Auction Gallery\, 521 Richmond Rd\, Bangor\, PA\, 18013\, United States
ORGANIZER;CN="Gallery Auction / Live Auctioneers":MAILTO:hartzell@epix.net
END:VEVENT
BEGIN:VEVENT
DTSTART;TZID=America/New_York:20220325T100000
DTEND;TZID=America/New_York:20220325T150000
DTSTAMP:20260425T224116
CREATED:20220218T201454Z
LAST-MODIFIED:20241111T204337Z
UID:46408-1648202400-1648220400@www.hartzellsauction.com
SUMMARY:A Touch of Glass
DESCRIPTION:Catalog – Bid Now Public Auction\nA Touch of Glass \nAbsentee Bid Form \nOffering 575+ Lots of Antiques and Fine Art including:  Tiffany Studios “Daffodil” Table Lamp\, Vladimir Kagan “Wing” Desk\, Lighting and Shades\, Bronzes and Paperweights\, Moser and Cut Glass\, Sterling Silver and Lalique\, Royal Vienna and  Limoges\, Lotton Art Glass\, Victorian Domes and Music Boxes\, Carved Cane Collection and Asian Decorative Arts\, Rosenthal and Sevres\, Mid-Century Modern and Danish Modern Furniture\,  Arts & Crafts Furniture and MUCH MORE. \nAuctioneer: \nHartzell’s Auction Gallery Inc. \n521 Richmond Road\, Bangor\, PA  18013 \nPhone: 610.588.5831   Toll Free: 1.800.724.6808   Fax:  610.588.6206 \nPA # AU – 000395-L  |  AH – 1919  |  EST. 1943 \n[caldera_form id="CF5c7434bbb1a01"]
URL:https://www.hartzellsauction.com/event/a-touch-of-glass/
LOCATION:Hartzell’s Auction Gallery\, 521 Richmond Rd\, Bangor\, PA\, 18013\, United States
ORGANIZER;CN="Gallery Auction / Live Auctioneers":MAILTO:hartzell@epix.net
END:VEVENT
BEGIN:VEVENT
DTSTART;TZID=America/New_York:20220224T100000
DTEND;TZID=America/New_York:20220224T100000
DTSTAMP:20260425T224117
CREATED:20220203T160138Z
LAST-MODIFIED:20220218T195855Z
UID:45835-1645696800-1645696800@www.hartzellsauction.com
SUMMARY:February Attic Finds Auction
DESCRIPTION:Catalog – Bid Now Public Auction\nOur doors will be open for everyone to attend!  See you on Thursday.  Visit Live Auctioneers to see the full sale with photo’s.\nWe are open to Preview the Auction in person.  The Preview Times are: \n\n\n\n\nMonday February 21st from 9:00am till 4:00pm\nTuesday February 22nd from 9:00am till 4:00pm\nWednesday February 23rd from 9:00am till 4:00pm\nOr by appointment.\n\n\n\n\nThursday\, February 24th @ 10am (Our doors will be open for everyone to attend !!  ) \nSelling 497-lots of Antique and Vintage Items from Several Local Estates and Collections including:\nCountry and Primitives\, Vintage Textiles and Sewing Items\, Silverplate and Sterling Silver\, Pottery and Stoneware\,\nCast Iron Match Holders and Tinware\, Copper and Brass\, Paper Goods and Advertising\, Toys and Dolls\, Speakers and\nMusical Instruments\, Artwork and Jewelry\, Porcelain and Asian Items\, Reference Books\, Vintage Medical Equipment and\nAntique Furniture Plus Much More \nAuctioneer: \nHartzell’s Auction Gallery Inc. \n521 Richmond Road\, Bangor\, PA  18013 \nPhone: 610.588.5831   Toll Free: 1.800.724.6808   Fax:  610.588.6206 \nPA # AU – 000395-L  |  AH – 1919  |  EST. 1943 \n[caldera_form id="CF5c7434bbb1a01"]
URL:https://www.hartzellsauction.com/event/february-attic-finds-auction/
LOCATION:Hartzell’s Auction Gallery\, 521 Richmond Rd\, Bangor\, PA\, 18013\, United States
ORGANIZER;CN="Hartzell's Auction Gallery%2C Inc.":MAILTO:hartzell@epix.net
END:VEVENT
END:VCALENDAR